BEGIN:VCALENDAR
PRODID:-//kirchenweb.ch gmbh//veranstaltungsausgabe v2.0//DE
VERSION:2.0
METHOD:PUBLISH
BEGIN:VEVENT
DTSTART:20260423T173000Z
DTEND:20260423T190000Z
LOCATION:Gemeinderaum\, Hauptstrasse\, 8272 Ermatingen
TRANSP:OPAQUE
SEQUENCE:0
UID:15746-veranstaltung@evang-ermatingen.ch
DTSTAMP:20260106T143004Z
DESCRIPTION:Expedition zum Anfang\n\nKontakt: Pfarrer Richard Häberlin\n
 \nWeitere Infos: https://www.evang-ermatingen.ch/veranstaltung/15746
SUMMARY:Expedition zum Anfang
PRIORITY:5
X-MICROSOFT-CDO-IMPORTANCE:1
CLASS:PUBLIC
END:VEVENT
END:VCALENDAR
