BEGIN:VCALENDAR
PRODID:-//kirchenweb.ch gmbh//veranstaltungsausgabe v2.0//DE
VERSION:2.0
METHOD:PUBLISH
BEGIN:VEVENT
DTSTART:20260816T163000Z
DTEND:20260816T180000Z
LOCATION:Kirche Ermatingen\, \,
TRANSP:OPAQUE
SEQUENCE:0
UID:15638-veranstaltung@evang-ermatingen.ch
DTSTAMP:20260113T121422Z
DESCRIPTION:Kontakt: Marc Mettler\n\nWeitere Infos:
  https://www.evang-ermatingen.ch/veranstaltung/15638
SUMMARY:Evensong
PRIORITY:5
X-MICROSOFT-CDO-IMPORTANCE:1
CLASS:PUBLIC
END:VEVENT
END:VCALENDAR
