BEGIN:VCALENDAR
PRODID:-//kirchenweb.ch gmbh//veranstaltungsausgabe v2.0//DE
VERSION:2.0
METHOD:PUBLISH
BEGIN:VEVENT
DTSTART:20260430T173000Z
DTEND:20260430T190000Z
LOCATION:Jugendraum Ermatingen\, \,
TRANSP:OPAQUE
SEQUENCE:0
UID:15603-veranstaltung@evang-ermatingen.ch
DTSTAMP:20260421T073322Z
DESCRIPTION:Der Alpha Youth ist ein Glaubenskurs für junge Leute im Alter
  von 13-18 Jahre.\nEr findet einmal pro Monat am Donnerstagabend von 19.30
  bis 21.00 Uhr im Jugendraum statt.\nEingeladen sind alle Teenager und
  junge Erwachsene\, die Lust haben\, über wichtige Fragen des Lebens und
  Glaubens nachzudenken und miteinander ins Gespräch zu kommen.\n\nJeder
  Abend ist interaktiv gestaltet: Wir starten mit einem spielerischen
  Einstieg\, schauen uns einen rund 20-minütigen Film an und besprechen
  dazwischen die aufgeworfenen Fragen.\n\n🥤🍪 Snacks und Drinks stehen
  bereit.\n\nMarc Mettler und Rebecca Geng begleiten die Abende und freuen
  sich auf die Gemeinschaft und das gemeinsame Unterwegssein im Glauben.
 \nDa gibt es noch so viel zu entdecken. 😊\n\n🗓️ Daten:\n27. Nov.\,
  18. Dez.\, 15. Jan\, 12. Febr\, 12. März\, 30. April\, 28. Mai\, 25.
  Juni\n\n📍 Die Abende können auch einzeln besucht werden.\n\n📞 Bei
  Interesse melde dich bei:\nMarc 📱 079 694 51 75\nRebecca 📱 079 406
  43 10\n\n\nKontakt: jana.stoer@evang-ermatingen.ch\n\nWeitere Infos:
  https://www.evang-ermatingen.ch/veranstaltung/15603
SUMMARY:Alpha Youth
PRIORITY:5
X-MICROSOFT-CDO-IMPORTANCE:1
CLASS:PUBLIC
END:VEVENT
END:VCALENDAR
