BEGIN:VCALENDAR
PRODID:-//kirchenweb.ch gmbh//veranstaltungsausgabe v2.0//DE
VERSION:2.0
METHOD:PUBLISH
BEGIN:VEVENT
DTSTART:20250907T083000Z
DTEND:20250907T130000Z
LOCATION:Kirche und Kirchenpark \, \,
TRANSP:OPAQUE
SEQUENCE:0
UID:15365-veranstaltung@evang-ermatingen.ch
DTSTAMP:20250827T112334Z
DESCRIPTION:Bei schlechtem Wetter findet das Fest in den Gemeinderäumen
  statt.\n\nAnmeldung zum Grillen bis Mittwoch 03. September bei Pfr. Marc
  Mettler 079 694 51 75\n\nKontakt: jana.stoer@evang-ermatingen.ch\n
 \nWeitere Infos: https://www.evang-ermatingen.ch/veranstaltung/15365
SUMMARY:Gemeindefest
PRIORITY:5
X-MICROSOFT-CDO-IMPORTANCE:1
CLASS:PUBLIC
END:VEVENT
END:VCALENDAR
