BEGIN:VCALENDAR
PRODID:-//kirchenweb.ch gmbh//veranstaltungsausgabe v2.0//DE
VERSION:2.0
METHOD:PUBLISH
BEGIN:VEVENT
DTSTART:20260219T110000Z
DTEND:20260219T120000Z
LOCATION:Gemeinderaum\, \,
TRANSP:OPAQUE
SEQUENCE:0
UID:15113-veranstaltung@evang-ermatingen.ch
DTSTAMP:20251219T095250Z
DESCRIPTION:Alle SeniorInnen sind herzlich eingeladen zum gemütlichen
  Beisammensein bei einem feinen Zmittag. Neuanmeldung oder Abmeldung bis
  am Dienstag vor dem Mittagstisch bei Frau Heidi Wälti (Tel. 071 664 23
  70 oder 079 785 14 42). Beginn 12.00 Uhr.\n\nKontakt:
  jana.stoer@evang-ermatingen.ch\n\nWeitere Infos:
  https://www.evang-ermatingen.ch/veranstaltung/15113
SUMMARY:Senioren-Mittagstisch
PRIORITY:5
X-MICROSOFT-CDO-IMPORTANCE:1
CLASS:PUBLIC
END:VEVENT
END:VCALENDAR
