BEGIN:VCALENDAR
PRODID:-//kirchenweb.ch gmbh//veranstaltungsausgabe v2.0//DE
VERSION:2.0
METHOD:PUBLISH
BEGIN:VEVENT
DTSTART:20251116T093000Z
DTEND:20251116T103000Z
LOCATION:Kirche Ermatingen\, \,
TRANSP:OPAQUE
SEQUENCE:0
UID:14884-veranstaltung@evang-ermatingen.ch
DTSTAMP:20250701T101935Z
DESCRIPTION:mit Pfarrer Werner Pfister\n\nKontakt:
  jana.stoer@evang-ermatingen.ch\n\nWeitere Infos:
  https://www.evang-ermatingen.ch/veranstaltung/14884
SUMMARY:Gottesdienst 10.30
PRIORITY:5
X-MICROSOFT-CDO-IMPORTANCE:1
CLASS:PUBLIC
END:VEVENT
END:VCALENDAR
