BEGIN:VCALENDAR
PRODID:-//kirchenweb.ch gmbh//veranstaltungsausgabe v2.0//DE
VERSION:2.0
METHOD:PUBLISH
BEGIN:VEVENT
DTSTART:20250424T173000Z
DTEND:20250424T200000Z
LOCATION:Jugendraum Ermatingen\, \,
TRANSP:OPAQUE
SEQUENCE:0
UID:14856-veranstaltung@evang-ermatingen.ch
DTSTAMP:20250416T080731Z
DESCRIPTION:Kontakt: jana.stoer@evang-ermatingen.ch\n\nWeitere Infos:
  https://www.evang-ermatingen.ch/veranstaltung/14856
SUMMARY:Worship
PRIORITY:5
X-MICROSOFT-CDO-IMPORTANCE:1
CLASS:PUBLIC
END:VEVENT
END:VCALENDAR
