BEGIN:VCALENDAR
PRODID:-//kirchenweb.ch gmbh//veranstaltungsausgabe v2.0//DE
VERSION:2.0
METHOD:PUBLISH
BEGIN:VEVENT
DTSTART:20250615T083000Z
DTEND:20250615T093000Z
LOCATION:Kirche Ermatingen\, \,
TRANSP:OPAQUE
SEQUENCE:0
UID:14706-veranstaltung@evang-ermatingen.ch
DTSTAMP:20250526T121349Z
DESCRIPTION:mit Pfarrer Marc Mettler\n(Taufsonntag)\n\nmit KidsTreff im
  Sonntagsschulhüsli\n\n\nKontakt: jana.stoer@evang-ermatingen.ch\n
 \nWeitere Infos: https://www.evang-ermatingen.ch/veranstaltung/14706
SUMMARY:Gottesdienst
PRIORITY:5
X-MICROSOFT-CDO-IMPORTANCE:1
CLASS:PUBLIC
END:VEVENT
END:VCALENDAR
