BEGIN:VCALENDAR
PRODID:-//kirchenweb.ch gmbh//veranstaltungsausgabe v2.0//DE
VERSION:2.0
METHOD:PUBLISH
BEGIN:VEVENT
DTSTART:20250416T170000Z
DTEND:20250416T180000Z
LOCATION:Kirche Ermatingen\, \,
TRANSP:OPAQUE
SEQUENCE:0
UID:14683-veranstaltung@evang-ermatingen.ch
DTSTAMP:20250318T105952Z
DESCRIPTION:Kontakt: Richard Häberlin\n\nWeitere Infos:
  https://www.evang-ermatingen.ch/veranstaltung/14683
SUMMARY:ökumenische Passionsandacht
PRIORITY:5
X-MICROSOFT-CDO-IMPORTANCE:1
CLASS:PUBLIC
END:VEVENT
END:VCALENDAR
